BEGIN:VCALENDAR
VERSION:2.0
PRODID:-//FRONTSH1P - ECPv6.3.6//NONSGML v1.0//EN
CALSCALE:GREGORIAN
METHOD:PUBLISH
X-ORIGINAL-URL:https://frontsh1p.eu
X-WR-CALDESC:Events for FRONTSH1P
REFRESH-INTERVAL;VALUE=DURATION:PT1H
X-Robots-Tag:noindex
X-PUBLISHED-TTL:PT1H
BEGIN:VTIMEZONE
TZID:Europe/Brussels
BEGIN:DAYLIGHT
TZOFFSETFROM:+0100
TZOFFSETTO:+0200
TZNAME:CEST
DTSTART:20230326T010000
END:DAYLIGHT
BEGIN:STANDARD
TZOFFSETFROM:+0200
TZOFFSETTO:+0100
TZNAME:CET
DTSTART:20231029T010000
END:STANDARD
END:VTIMEZONE
BEGIN:VEVENT
DTSTART;VALUE=DATE:20231107
DTEND;VALUE=DATE:20231111
DTSTAMP:20260425T111524
CREATED:20230811T131937Z
LAST-MODIFIED:20230811T131937Z
UID:2644-1699315200-1699660799@frontsh1p.eu
SUMMARY:26th edition ECOMONDO Fair
DESCRIPTION:Next November will take place from 7 to 10 the Ecomondo – The Green Technology Expo at Rimini\, Italy. \nEcomondo is one of the biggest fair for green and circular economy at international level and proposes an extensive programme of conferences\, seminars and events. \nFRONTSH1P ⛵ has the pleasure to participate in this year’s edition at the session organized by The European Research Executive Agency (REA). \n📅 8th November \n🕦 11.30 to 13.00 \n🗨 Session 2 \nThe 9th of November the FRONTSH1P ⛵ Project will also count with a spot in the EU stand that will be held along the day. \n			\n				\n				\n				\n				\n				\n					\n					\n						 \n						Day(s) \n					\n						: \n					\n						 \n						Hour(s) \n					\n						: \n					\n						 \n						Minute(s) \n					\n						: \n					\n						 \n						Second(s)
URL:https://frontsh1p.eu/event/26th-edition-ecomondo-fair/
LOCATION:Rimini Expo Centre\, Via Emilia\, 155\, Rimini\, 47921\, Italy
ATTACH;FMTTYPE=image/jpeg:https://frontsh1p.eu/wp-content/uploads/2023/08/1500x500-ecomondo.jpg
END:VEVENT
END:VCALENDAR